BEGIN:VCALENDAR
VERSION:2.0
PRODID:-//Marden Medical - ECPv6.15.20//NONSGML v1.0//EN
CALSCALE:GREGORIAN
METHOD:PUBLISH
X-WR-CALNAME:Marden Medical
X-ORIGINAL-URL:https://mardenmedical.com.br
X-WR-CALDESC:Eventos para Marden Medical
REFRESH-INTERVAL;VALUE=DURATION:PT1H
X-Robots-Tag:noindex
X-PUBLISHED-TTL:PT1H
BEGIN:VTIMEZONE
TZID:America/Sao_Paulo
BEGIN:STANDARD
TZOFFSETFROM:-0300
TZOFFSETTO:-0300
TZNAME:-03
DTSTART:20210101T000000
END:STANDARD
END:VTIMEZONE
BEGIN:VEVENT
DTSTART;TZID=America/Sao_Paulo:20230825T080000
DTEND;TZID=America/Sao_Paulo:20230826T180000
DTSTAMP:20260422T142653
CREATED:20230410T192753Z
LAST-MODIFIED:20230410T192753Z
UID:715-1692950400-1693072800@mardenmedical.com.br
SUMMARY:Curso de Coluna 2023: “Técnicas Modernas e Avanços na Cirurgia da Coluna Vertebral”
DESCRIPTION:Localização\nHotel Royal Tulio JP\nVia Dr. Jeremias de Paula Martins\, 101 – Jardim Zinato\nRibeirão Preto – SP\nCEP: 14097-142
URL:https://mardenmedical.com.br/evento/curso-de-coluna-2023-tecnicas-modernas-e-avancos-na-cirurgia-da-coluna-vertebral/
END:VEVENT
BEGIN:VEVENT
DTSTART;TZID=America/Sao_Paulo:20230523T110000
DTEND;TZID=America/Sao_Paulo:20230526T203000
DTSTAMP:20260422T142653
CREATED:20230410T184639Z
LAST-MODIFIED:20230410T193114Z
UID:711-1684839600-1685133000@mardenmedical.com.br
SUMMARY:Feira Hospitalar 2023
DESCRIPTION:Localização\nSão Paulo Expo\nRodovia dos Imigrantes\, 1\,5 km – Vila Água Funda\nSão Paulo – SP\nCEP: 04329-900
URL:https://mardenmedical.com.br/evento/feira-hospitalar-2023/
END:VEVENT
BEGIN:VEVENT
DTSTART;TZID=America/Sao_Paulo:20230517T083000
DTEND;TZID=America/Sao_Paulo:20230520T180000
DTSTAMP:20260422T142653
CREATED:20230410T183309Z
LAST-MODIFIED:20230410T194216Z
UID:706-1684312200-1684605600@mardenmedical.com.br
SUMMARY:16º CONGRESSO BRASILEIRO DE DOR 2023
DESCRIPTION:LOCAL DO EVENTO\nCentro de Convenções Frei Caneca – 5º andar\nRua Frei Caneca nº 569 – Consolação\nSão Paulo – SP\nCEP: 01307-001 \n 
URL:https://mardenmedical.com.br/evento/16o-congresso-brasileiro-de-dor-2023/
END:VEVENT
BEGIN:VEVENT
DTSTART;TZID=America/Sao_Paulo:20220902T080000
DTEND;TZID=America/Sao_Paulo:20220903T190000
DTSTAMP:20260422T142653
CREATED:20220805T002605Z
LAST-MODIFIED:20220805T123701Z
UID:371-1662105600-1662231600@mardenmedical.com.br
SUMMARY:I CABDOR
DESCRIPTION:O I Congresso da Associação Brasileira de Dor Ortopédica acontecerá nos dias 02 e 03 de setembro de 2022 no Hotel Royal Tulip\, em Brasília – DF\, tendo como realizadora a ABDOR – Associação Brasileira da Dor Ortopédica. \n​Para nosso primeiro evento\, adotaremos o formato presencial\, oferendo ao nosso congressista uma participação segura\, respeitando todos os protocolos de saúde e segurança. \n​Manteremos o convite a renomados convidados nacionais e estamos aguardando aproximadamente 500 participantes\, que estarão reunidos para troca de experiências e ampliação de conhecimentos conforme as últimas atualizações dentro das inovações do Dor Ortopédica. \n​Buscamos valorizar nossos patrocinadores e o crescente acesso a informações\, atualização de técnicas e extensão da parceria entre  médicos e a indústria farmacêutica para promoção e principalmente ao ensino\, que se aplica para o bem da população em geral.
URL:https://mardenmedical.com.br/evento/i-cabdor/
LOCATION:HOTEL ROYAL tulip brasília\, SHTN Trecho 2 1b c - Asa Norte\, Brasília\, Distrito Federal\, 70800-200\, Brasil
ATTACH;FMTTYPE=image/jpeg:https://mardenmedical.com.br/wp-content/uploads/2022/08/I-CABDOR-BRASILIA.jpg
END:VEVENT
END:VCALENDAR